BEGIN:VCALENDAR
VERSION:2.0
PRODID:-//pretix//RCM-Kartenshop//
BEGIN:VTIMEZONE
TZID:Europe/Berlin
BEGIN:STANDARD
DTSTART:20001029T040000
RRULE:FREQ=YEARLY;BYDAY=-1SU;BYMONTH=10
TZNAME:CET
TZOFFSETFROM:+0200
TZOFFSETTO:+0100
END:STANDARD
BEGIN:DAYLIGHT
DTSTART:20000326T030000
RRULE:FREQ=YEARLY;BYDAY=-1SU;BYMONTH=3
TZNAME:CEST
TZOFFSETFROM:+0100
TZOFFSETTO:+0200
END:DAYLIGHT
END:VTIMEZONE
BEGIN:VEVENT
UID:pretix-RCM-bhuth-0@tickets.rcm.de
DTSTART;TZID=Europe/Berlin:20230504T193000
DTEND;TZID=Europe/Berlin:20230504T220000
DESCRIPTION:Tickets: https://tickets.rcm.de/RCM/bhuth/\nEinlass: 04.05.2023
  19:15\nVeranstalter: Rheydter Club für Motorsport e.V.
DTSTAMP:20260421T085229Z
LOCATION:Euro Indoorkarting & Bowling\, Bosstraat 99\,\, 6071 PX Swalmen\,\
 , Niederlande
SUMMARY:RCM Kartlauf im Mai
END:VEVENT
END:VCALENDAR
